BEGIN:VCALENDAR
VERSION:2.0
PRODID:-//Volt Europa//Events//EN
CALSCALE:GREGORIAN
METHOD:PUBLISH
BEGIN:VEVENT
UID:utrecht-nieuwjaarsborrel-blik-vooruit-1736274600@voltnederland.org
DTSTAMP:20260423T114226Z
DTSTART;TZID=Europe/Amsterdam:20250107T193000
DTEND;TZID=Europe/Amsterdam:20250107T220000
SUMMARY:Utrecht: Nieuwjaarsborrel - Blik vooruit
DESCRIPTION:Van kleinschalige kernenergie tot een Europastrategie. Van ener
 gienota tot woonquota. Van integratie met Plan Einstein tot vernieuwing van
  het Domplein. De feestdagen zijn weer voorbij\, dus eindigt dit gedicht te
 nzij… Geen  Blue Monday  voor jou dit jaar\, maar  Purple Tuesday  op din
 sdag 7 januari 2025. Start het jaar goed met deze nieuwjaarsborrel voor all
 e ‘oude\, nieuwe en toekomstige’ leden in de Provincie Utrecht.  Wat k
 an je verwachten?  De gemeenteraads- en provinciale fracties laten weten
LOCATION:Bar Josefien\, voorstraat 96\, Utrecht
URL:https://voltnederland.org/agenda/utrecht-nieuwjaarsborrel-blik-vooruit
END:VEVENT
END:VCALENDAR
