BEGIN:VCALENDAR
VERSION:2.0
PRODID:-//Volt Europa//Events//EN
CALSCALE:GREGORIAN
METHOD:PUBLISH
BEGIN:VEVENT
UID:utrecht-future-made-in-europe-1694084400@voltnederland.org
DTSTAMP:20260423T102051Z
DTSTART;TZID=Europe/Amsterdam:20230907T130000
DTEND;TZID=Europe/Amsterdam:20230907T180000
SUMMARY:Utrecht - Future: Made in Europe
DESCRIPTION:Van 6 tot 9 juni 2024 zijn er verkiezingen voor het Europarleme
 nt. Het ultieme doel van Volt is een eigen fractie in het Europarlement. Da
 t vereist 25 gekozen EU-parlementariërs uit tenminste 7 EU-landen. Ook al 
 wordt dit doel nu nog niet gehaald\, zaak is wel om de huidige eenmansfract
 ie aanzienlijk te vergroten.  Aan de voorbereiding wordt door de EUR Board 
 en EUR campagneteam al hard gewerkt. Ook de verschillende Volt Chapters zul
 len campagne voeren. Hoe meer leden\, hoe meer energie in de camp
LOCATION:Utrecht - De Kargadoor
URL:https://voltnederland.org/agenda/utrecht-future-made-in-europe
END:VEVENT
END:VCALENDAR
