BEGIN:VCALENDAR
VERSION:2.0
PRODID:-//Volt Europa//Events//EN
CALSCALE:GREGORIAN
METHOD:PUBLISH
BEGIN:VEVENT
UID:uitwisseling-lokaal-democratiebeleid-grv-1755624600@voltnederland.org
DTSTAMP:20260423T114135Z
DTSTART;TZID=Europe/Amsterdam:20250819T193000
DTEND;TZID=Europe/Amsterdam:20250819T210000
SUMMARY:Uitwisseling lokaal democratiebeleid GRV
DESCRIPTION:De Democratie community van Volt Nederland gaat in gesprek over
  democratie\, deel 2! Iedereen die bezig is te denken over en schrijven aan
  lokaal democratiebeleid is van harte welkom om aan te sluiten bij deze bij
 eenkomst.  Doel: beleid nader aanscherpen en invullen\, inspiratie opdoen b
 ij elkaar. Opzet: Deelnemers delen vooraf hun schrijven in  deze map . Ter 
 voorbereiding leest iedereen enkele documenten en voorziet deze van comment
 s en suggesties. Tijdens de bijeenkomst pakken we er een paar vo
LOCATION:Zoom
URL:https://voltnederland.org/agenda/uitwisseling-lokaal-democratiebeleid-g
 rv
END:VEVENT
END:VCALENDAR
