BEGIN:VCALENDAR
VERSION:2.0
PRODID:-//Volt Europa//Events//EN
CALSCALE:GREGORIAN
METHOD:PUBLISH
BEGIN:VEVENT
UID:uitnodiging-volt-academy-de-transatlantische-relatie-onder-de-loep-1737
 484200@voltnederland.org
DTSTAMP:20260423T114253Z
DTSTART;TZID=Europe/Amsterdam:20250121T193000
DTEND;TZID=Europe/Amsterdam:20250121T213000
SUMMARY:Uitnodiging Volt academy: de transatlantische relatie onder de loep
DESCRIPTION:English below: Hoe staan de verhoudingen tussen de Verenigde St
 aten en Europa ervoor? Met de terugkeer van Trump staat de relatie tussen d
 e VS en de EU opnieuw op scherp. Oekraïne\, de NAVO en de wereldorde zoals
  we die kennen\, staan weer op het spel.  Daarom geeft professor Andrew Ga
 wthorpe op 21 januari - de dag na Trumps inauguratie - tijdens de Volt Acad
 emy hierover een lezing. Een actueel evenement voor iedereen die geïnteres
 seerd is in internationale politiek en diplomatie.  Professor Gawth
LOCATION:Partijkantoor\, Koninginnegracht 7\, 2514 AA Den Haag
URL:https://voltnederland.org/agenda/uitnodiging-volt-academy-de-transatlan
 tische-relatie-onder-de-loep
END:VEVENT
END:VCALENDAR
