BEGIN:VCALENDAR
VERSION:2.0
PRODID:-//Volt Europa//Events//EN
CALSCALE:GREGORIAN
METHOD:PUBLISH
BEGIN:VEVENT
UID:twente-themaavond-1696527000@voltnederland.org
DTSTAMP:20260423T113926Z
DTSTART;TZID=Europe/Amsterdam:20231005T193000
DTEND;TZID=Europe/Amsterdam:20231005T220000
SUMMARY:Twente - Themaavond
DESCRIPTION:Op 5 oktober organiseert Volt Twente weer een themaavond. We zi
 jn nog bezig met het thema. Na een korte introductie over het onderwerp\, g
 aan we hierover met elkaar in gesprek. We sluiten af met een borrel. Kom je
  ook langs?
LOCATION:Hengelo\, Buurthuis Dichtersbuurt\, Vondelstraat 5
URL:https://voltnederland.org/agenda/twente-themaavond
END:VEVENT
END:VCALENDAR
