BEGIN:VCALENDAR
VERSION:2.0
PRODID:-//Volt Europa//Events//EN
CALSCALE:GREGORIAN
METHOD:PUBLISH
BEGIN:VEVENT
UID:twente-congres-1699554600@voltnederland.org
DTSTAMP:20260423T101915Z
DTSTART;TZID=Europe/Amsterdam:20231109T193000
DTEND;TZID=Europe/Amsterdam:20231109T220000
SUMMARY:Twente - Congres
DESCRIPTION:Op 9 november is het alweer tijd voor het jaarlijkse Twente con
 gres. We zullen de jaarverslagen presenteren\, de fractie zal een update ge
 ven en alle actieve leden worden in het zonnetje gezet voor hun bijdrage. V
 erder zullen er nieuwe bestuursleden ingestemd gaan worden en presenteren w
 e de plannen voor het overgaan naar een provinciale afdeling. We sluiten af
  met een borrel. Kom je ook langs?
LOCATION:Hengelo\, Buurthuis Dichtersbuurt\, Vondelstraat 5
URL:https://voltnederland.org/agenda/twente-congres
END:VEVENT
END:VCALENDAR
