BEGIN:VCALENDAR
VERSION:2.0
PRODID:-//Volt Europa//Events//EN
CALSCALE:GREGORIAN
METHOD:PUBLISH
BEGIN:VEVENT
UID:trotsborrel-nijmegen-1732820400@voltnederland.org
DTSTAMP:20260423T113838Z
DTSTART;TZID=Europe/Amsterdam:20241128T200000
DTEND;TZID=Europe/Amsterdam:20241128T230000
SUMMARY:Trotsborrel Nijmegen
DESCRIPTION:He allemaal! We zijn er weer met een geweldige trotsborrel in N
 ijmegen. Dit is een geweldige kans om elkaar buiten de randstad te ontmoete
 n. Voel je je jong? Wees er dan zeker bij en meld je er nu voor aan! Hopeli
 jk zien we jullie daar.
LOCATION:Cafe Maxim Nijmegen\, Burghardt van Den Berghstraat 87-89\, 6512 D
 G Nijmegen
URL:https://voltnederland.org/agenda/trotsborrel-nijmegen
END:VEVENT
END:VCALENDAR
