BEGIN:VCALENDAR
VERSION:2.0
PRODID:-//Volt Europa//Events//EN
CALSCALE:GREGORIAN
METHOD:PUBLISH
BEGIN:VEVENT
UID:treinactie-tkv25-1761379200@voltnederland.org
DTSTAMP:20260423T101911Z
DTSTART;TZID=Europe/Amsterdam:20251025T100000
DTEND;TZID=Europe/Amsterdam:20251025T180000
SUMMARY:De grote treinactie!
DESCRIPTION:Op de laatste zaterdag voor de verkiezingen zullen we een trein
 actie houden. Twee teams doen een tour de Limburg met de trein. Het eerste 
 team maakt een rondje door Limburg Noord terwijl het andere team door Zuid-
 Limburg reist. Beide teams zullen uiteindelijk in het midden uitkomen om sa
 men Sittard paars te kleuren. Klik hier  om de uitnodiging met het reissche
 ma te downloaden. Van alle campagneacties zijn de treinacties altijd de leu
 kste\, dus zorg dat je er bij bent ✨😎✨ Disclaimer: de trein uit
LOCATION:Overal in Limburg
URL:https://voltnederland.org/agenda/treinactie-tkv25
END:VEVENT
END:VCALENDAR
