BEGIN:VCALENDAR
VERSION:2.0
PRODID:-//Volt Europa//Events//EN
CALSCALE:GREGORIAN
METHOD:PUBLISH
BEGIN:VEVENT
UID:tilburg-volt-summer-meet-up-augustus-1723053600@voltnederland.org
DTSTAMP:20260423T102050Z
DTSTART;TZID=Europe/Amsterdam:20240807T200000
DTEND;TZID=Europe/Amsterdam:20240807T220000
SUMMARY:Tilburg - Volt Summer Meet-up - Augustus
DESCRIPTION:In de zomer gaan de Volt meet-ups in Tilburg door! Gewoonweg om
  contact te houden met elkaar en ideeën uit te wisselen voor na de zomer. 
 Inloop is vrij. Tot dan!
LOCATION:Burgemeester Jansen\, Piushaven 22\, 5017 AN Tilburg
URL:https://voltnederland.org/agenda/tilburg-volt-summer-meet-up-augustus
END:VEVENT
END:VCALENDAR
