BEGIN:VCALENDAR
VERSION:2.0
PRODID:-//Volt Europa//Events//EN
CALSCALE:GREGORIAN
METHOD:PUBLISH
BEGIN:VEVENT
UID:tilburg-meet-up-oktober-campagne-voeren-in-het-buitenland-1696440600@vo
 ltnederland.org
DTSTAMP:20260423T114538Z
DTSTART;TZID=Europe/Amsterdam:20231004T193000
DTEND;TZID=Europe/Amsterdam:20231004T213000
SUMMARY:Tilburg - meet-up oktober - campagne voeren in het buitenland
DESCRIPTION:- English below - Iedere eerste woensdag spreken we met Volters
  af in Tilburg. Ook belangstellenden zijn van harte welkom. Op 4 oktober 20
 23 spreekt Bram Kamp\, co-lead events bij Volt Zuidoost-Brabant over campag
 ne voeren in het Duitsland\, Belgie en Frankrijk. Vanaf 19.30 uur zijn wij 
 bij Gourmet Market\, aan de noordkant van station Tilburg. Graag tot dan! -
 -- Every first Wednesday we meet with Volters in Tilburg. Interested partie
 s are also very welcome. On October 4th\, 2023 Bram Kamp\, co-lead 
LOCATION:Gourmet Market\, Burgemeester Stekelenburgplein 208\, Tilburg
URL:https://voltnederland.org/agenda/tilburg-meet-up-oktober-campagne-voere
 n-in-het-buitenland
END:VEVENT
END:VCALENDAR
