BEGIN:VCALENDAR
VERSION:2.0
PRODID:-//Volt Europa//Events//EN
CALSCALE:GREGORIAN
METHOD:PUBLISH
BEGIN:VEVENT
UID:tilburg-meet-up-december-1701887400@voltnederland.org
DTSTAMP:20260423T101947Z
DTSTART;TZID=Europe/Amsterdam:20231206T193000
DTEND;TZID=Europe/Amsterdam:20231206T220000
SUMMARY:Tilburg - Meet-up december
DESCRIPTION:- English below -  Iedere eerste woensdag spreken we met Volter
 s af in Tilburg. Ook belangstellenden zijn van harte welkom.  Op 6 december
  2023 zijn we vanaf 19.30 uur bij Gourmet Market\, aan de noordkant van sta
 tion Tilburg. Graag tot dan! --- Every first Wednesday we meet with Volters
  in Tilburg. Interested parties are also very welcome. On December 6th\, 20
 23\, we will be at Gourmet Market\, on the north side of Tilburg station\, 
 from 7:30 PM. See you then!
LOCATION:Tilburg - Gourmet Market 208 Burgemeester Stekelenburgplein Tilbur
 g\, NB\, 5038 CB
URL:https://voltnederland.org/agenda/tilburg-meet-up-december
END:VEVENT
END:VCALENDAR
