BEGIN:VCALENDAR
VERSION:2.0
PRODID:-//Volt Europa//Events//EN
CALSCALE:GREGORIAN
METHOD:PUBLISH
BEGIN:VEVENT
UID:tilburg-congres-volt-brabant-1711195200@voltnederland.org
DTSTAMP:20260423T101921Z
DTSTART;TZID=Europe/Amsterdam:20240323T130000
DTEND;TZID=Europe/Amsterdam:20240323T160000
SUMMARY:Tilburg - congres Volt Brabant
DESCRIPTION:Tijdens het congres van Volt Brabant worden het afdelingsreglem
 ent en de begroting voor 2024 ter goedkeuring aangeboden aan de leden van V
 olt Brabant. Deze stukken zijn amendeerbaar. Dit betekent dat leden een ame
 ndement kunnen indienen met het verzoek om sommige tekst in een van deze st
 ukken toe te voegen\, te wijzigen of te verwijderen.  Daarnaast kunnen we k
 ennis maken met en stemmen over de leden van het nieuw te vormen bestuur va
 n Volt Brabant.
LOCATION:Tilburg - Boerke Mutsaers - Vijverlaan 2\, 5042 PZ Tilburg
URL:https://voltnederland.org/agenda/tilburg-congres-volt-brabant
END:VEVENT
END:VCALENDAR
