BEGIN:VCALENDAR
VERSION:2.0
PRODID:-//Volt Europa//Events//EN
CALSCALE:GREGORIAN
METHOD:PUBLISH
BEGIN:VEVENT
UID:themabijeenkomst-17-maart-in-breda-1742238000@voltnederland.org
DTSTAMP:20260423T143331Z
DTSTART;TZID=Europe/Amsterdam:20250317T200000
DTEND;TZID=Europe/Amsterdam:20250317T220000
SUMMARY:Themabijeenkomst 17 maart in Breda: ‘Genoeg goede woningen’
DESCRIPTION:Het is crisis op de woningmarkt. Tenminste dat ervaren we zo. E
 n het wordt ons ook aangepraat door diverse politici. Dat er iets scheef ga
 at is wel duidelijk. Ook Volt NL heeft het in zijn hoofdlijnenbeleidsplan a
 ls topic aangeduid.  Programma: Tijd om lokaal in de facts en figures te d
 uiken om te zien hoe urgent in Breda en omliggende dorpen het woningproblee
 m is.  Met elkaar inventariseren welke vraagstukken onder het thema liggen
  en deze te houden naast het hoofdlijnenbeleidsplan van Volt NL.
LOCATION:Parkzicht\, Paul Windhausenweg 1 in Breda
URL:https://voltnederland.org/agenda/themabijeenkomst-17-maart-in-breda
END:VEVENT
END:VCALENDAR
