BEGIN:VCALENDAR
VERSION:2.0
PRODID:-//Volt Europa//Events//EN
CALSCALE:GREGORIAN
METHOD:PUBLISH
BEGIN:VEVENT
UID:themaavond-polarisatie-1739989800@voltnederland.org
DTSTAMP:20260423T142602Z
DTSTART;TZID=Europe/Amsterdam:20250219T193000
DTEND;TZID=Europe/Amsterdam:20250219T220000
SUMMARY:Themaavond Polarisatie
DESCRIPTION:Wat: Volt Enschede Politieke avond  Voor wie: Volt-leden en i
 edereen die Volt interessant vindt Wanneer: woensdag 19 februari 2025 van 
 19:30 tot 22:00 Waar: Enschede\, wijkpunt de Heurne\, de Herune 32 Onderwe
 rp: Polarisatie en het vormen van een mening Algemeen: We willen iedereen 
 die Volt interessant vindt een plek bieden om elkaar te leren kennen\, en t
 e praten over Enschede\, Europa\, en politiek. Het idee is vooral om je eig
 en horizon te verbreden\, kennis te maken met nieuwe/gezellige mensen en 
LOCATION:Enschede\, wijkpunt de Heurne\, de Heurne 32
URL:https://voltnederland.org/overijssel/agenda/themaavond-polarisatie
END:VEVENT
END:VCALENDAR
