BEGIN:VCALENDAR
VERSION:2.0
PRODID:-//Volt Europa//Events//EN
CALSCALE:GREGORIAN
METHOD:PUBLISH
BEGIN:VEVENT
UID:themaavond-netcongestie-1709231400@voltnederland.org
DTSTAMP:20260423T101920Z
DTSTART;TZID=Europe/Amsterdam:20240229T193000
DTEND;TZID=Europe/Amsterdam:20240229T223000
SUMMARY:Themaavond netcongestie
DESCRIPTION:Voor Volt leden en geïnteresseerden: Hoe balanceren we de opwe
 kking van zonne-energie met het gebruik\, transport en de opslag ervan? En 
 hoe houden we daarbij de belangen van alle stakeholders in balans: bewoners
  met zonnepanelen en bewoners zonder\, grootschalige opwekkers\, bedrijven 
 en organisaties\, energiemaatschappijen\, netwerkbedrijven\, lokale\, regio
 nale\, nationale en Europese overheden. Op donderdag 29 februari vanaf 19.3
 0 uur gaan we het hierover hebben. Verschillende sprekers\, waaronder Ri
LOCATION:Vondelstraat 5\, Hengelo
URL:https://voltnederland.org/agenda/themaavond-netcongestie
END:VEVENT
END:VCALENDAR
