BEGIN:VCALENDAR
VERSION:2.0
PRODID:-//Volt Europa//Events//EN
CALSCALE:GREGORIAN
METHOD:PUBLISH
BEGIN:VEVENT
UID:themaavond-basisinkomen-1746640800@voltnederland.org
DTSTAMP:20260423T113841Z
DTSTART;TZID=Europe/Amsterdam:20250507T200000
DTEND;TZID=Europe/Amsterdam:20250507T213000
SUMMARY:Thema-avond basisinkomen
DESCRIPTION:In Hoofdlijnen van Beleid dat tijdens het congres van november 
 2024 is aangenomen\, staat onder het kopje Bestaanszekerheid: "De Overheid 
 garandeert onvoorwaardelijk aan iedere volwassene een basisinkomen waarvan 
 je in Nederland menswaardig kunt leven. Werken loont: het inkomen stijgt." 
 De werkgroep Sociaalfiscaal stelsel met basisinkomen heeft het HOE DAN uitg
 ewerkt in een beleidsvoorstel genaamd Eenvoud en Zekerheid. Heleen Tims en 
 Marja Brouwer zullen in onze online themabijeenkomst dit voorst
LOCATION:Online
URL:https://voltnederland.org/agenda/themaavond-basisinkomen
END:VEVENT
END:VCALENDAR
