BEGIN:VCALENDAR
VERSION:2.0
PRODID:-//Volt Europa//Events//EN
CALSCALE:GREGORIAN
METHOD:PUBLISH
BEGIN:VEVENT
UID:themaavond-ai-1744824600@voltnederland.org
DTSTAMP:20260423T101911Z
DTSTART;TZID=Europe/Amsterdam:20250416T193000
DTEND;TZID=Europe/Amsterdam:20250416T220000
SUMMARY:Thema-avond AI
DESCRIPTION:Wat: Volt Enschede politieke thema-avond  Voor wie: Volt-leden 
 en iedereen die Volt interessant vindt Wanneer: woensdag 16 april 2025 van 
 19:30 tot 22:00 Waar: Enschede\, wijkpunt De Heurne\, De Heurne 32 Onderwer
 p: Artificiële intelligentie - techniek & ethiek Beeld- en spraakherkennin
 g\, zelfrijdende auto's\, ChatGPT. We kunnen tegenwoordig niet meer om arti
 ficiële intelligentie heen. Maar wat is AI precies\, wat kun je er wel en 
 niet mee\, wat voor een positieve en negatieve impact heeft het op onz
LOCATION:Enschede\, wijkpunt De Heurne\, De Heurne 32
URL:https://voltnederland.org/overijssel/agenda/themaavond-ai
END:VEVENT
END:VCALENDAR
