BEGIN:VCALENDAR
VERSION:2.0
PRODID:-//Volt Europa//Events//EN
CALSCALE:GREGORIAN
METHOD:PUBLISH
BEGIN:VEVENT
UID:thema-avond-lokaal-eigendom-in-de-energietransitie-1719509400@voltneder
 land.org
DTSTAMP:20260423T114254Z
DTSTART;TZID=Europe/Amsterdam:20240627T193000
DTEND;TZID=Europe/Amsterdam:20240627T213000
SUMMARY:Thema avond 'Lokaal eigendom' in de energietransitie
DESCRIPTION:De Bossche Duurzame Polder Dit project roept veel vragen en uit
 dagingen op. Het doel is dat de helft van de windturbines in lokale handen 
 komt. Maar wat betekent lokaal eigendom precies? En wat houdt dat in voor o
 mwonenden en andere stakeholders? Dit actuele thema komt in oktober op de a
 genda van de gemeente te staan. Met behulp van experts\, waaronder best pra
 ctice de BetuweWind & burgerlid Marie-José Klerks zorgen we voor een avond
  met veel perspectieven. Kortom\, meld je nu gratis aan!
LOCATION:'s Hertogenbosch\, Korte Waterstraat 15\, De Knillispoort
URL:https://voltnederland.org/agenda/thema-avond-lokaal-eigendom-in-de-ener
 gietransitie
END:VEVENT
END:VCALENDAR
