BEGIN:VCALENDAR
VERSION:2.0
PRODID:-//Volt Europa//Events//EN
CALSCALE:GREGORIAN
METHOD:PUBLISH
BEGIN:VEVENT
UID:tca-europese-toekomst-jongeren-nu-aan-zet-1716384600@voltnederland.org
DTSTAMP:20260423T114538Z
DTSTART;TZID=Europe/Amsterdam:20240522T153000
DTEND;TZID=Europe/Amsterdam:20240522T160000
SUMMARY:TCA - Europese toekomst: jongeren nu aan zet
DESCRIPTION:Tijdens dit evenement (taal: Nederlands) gaan we in op het bela
 ng van de Europese verkiezingen. Hoe werkt het daar in Brussel en wat voor 
 effect hebben Europese besluiten op jouw leven? Belangrijk om te beseffen: 
 wie die besluiten neemt\, daar stem jij voor op 6 juni. Programma Dat beeld
  van Europa en de werking in Brussel\, dat schetsen we natuurlijk niet zelf
 . Eveline van Rijswijk\, bekend van 'De Slimste Mens' en het radioprogramma
  'Spraakmakers'\, neemt je mee door de politieke brij van Europa. 
LOCATION:Hogeschool Leiden\, Zernikedreef 11\, Leiden
URL:https://voltnederland.org/agenda/tca-europese-toekomst-jongeren-nu-aan-
 zet
END:VEVENT
END:VCALENDAR
