BEGIN:VCALENDAR
VERSION:2.0
PRODID:-//Volt Europa//Events//EN
CALSCALE:GREGORIAN
METHOD:PUBLISH
BEGIN:VEVENT
UID:tata-steel-informatie-avond-1759856400@voltnederland.org
DTSTAMP:20260423T102047Z
DTSTART;TZID=Europe/Amsterdam:20251007T190000
DTEND;TZID=Europe/Amsterdam:20251007T210000
SUMMARY:Tata Steel informatie avond
DESCRIPTION:Volt gaat voor een gezonde\, duurzame en toekomstbestendige eco
 nomie. Daarin is geen ruimte voor de industrie van gisteren. Tata Steel is 
 een vervuilend bedrijf\, voor het milieu en vooral ook voor de leefomgeving
 . Het verduurzamen van Tata zou een miljardeninvestering zijn\, terwijl er 
 vanuit het bedrijf al jaren geen stappen worden genomen. Daarnaast blijft z
 ware staalproductie in IJmond ook na een verduurzamingsslag niet haalbaar. 
 In andere woorden\, er is geen ruimte meer voor Tata Steel in de I
LOCATION:Provincie Huis\, Dreef 3\, Haarlem\, Noord-Holland
URL:https://voltnederland.org/agenda/tata-steel-informatie-avond
END:VEVENT
END:VCALENDAR
