BEGIN:VCALENDAR
VERSION:2.0
PRODID:-//Volt Europa//Events//EN
CALSCALE:GREGORIAN
METHOD:PUBLISH
BEGIN:VEVENT
UID:straatactie-weert-251019-1760868000@voltnederland.org
DTSTAMP:20260423T101945Z
DTSTART;TZID=Europe/Amsterdam:20251019T120000
DTEND;TZID=Europe/Amsterdam:20251019T150000
SUMMARY:Straatactie Weert
DESCRIPTION:Op deze dag willen we zo veel mogelijk mensen bij elkaar krijge
 n in Weert\, dus trek je paarste outfit aan en doe mee! We verzamelen om 12
  uur op het station en trekken vanaf daar de stad in. Gebruik het formulier
  om je aan te melden voor deze en andere straatacties 🙏🏻💜 On this 
 day\, we want to gather as many people as possible in Weert\, so put on you
 r purplest outfit and join in! We will gather at the train station at 12PM 
 and move into the city from there. Use the form to sign up for this and ot
LOCATION:Weert
URL:https://voltnederland.org/limburg/agenda/straatactie-weert-251019
END:VEVENT
END:VCALENDAR
