BEGIN:VCALENDAR
VERSION:2.0
PRODID:-//Volt Europa//Events//EN
CALSCALE:GREGORIAN
METHOD:PUBLISH
BEGIN:VEVENT
UID:straatactie-heerlen-251012-1760266800@voltnederland.org
DTSTAMP:20260423T101945Z
DTSTART;TZID=Europe/Amsterdam:20251012T130000
DTEND;TZID=Europe/Amsterdam:20251012T160000
SUMMARY:Straatactie Heerlen
DESCRIPTION:Op deze dag willen we zo veel mogelijk mensen bij elkaar krijge
 n in Heerlen\, dus trek je paarste outfit aan en doe mee! We verzamelen om 
  13 uur voor het theater  (Burgemeester van Grunsvenplein) en trekken vanaf
  daar de stad in. Gebruik het formulier om je aan te melden voor deze en an
 dere straatacties 🙏🏻💜 On this day\, we want to gather as many peop
 le as possible in Heerlen\, so put on your purplest outfit and join in! We 
 will gather  in front of the theatre at 1PM  (Burgemeester van Grunsvenple
LOCATION:Heerlen
URL:https://voltnederland.org/limburg/agenda/straatactie-heerlen-251012
END:VEVENT
END:VCALENDAR
