BEGIN:VCALENDAR
VERSION:2.0
PRODID:-//Volt Europa//Events//EN
CALSCALE:GREGORIAN
METHOD:PUBLISH
BEGIN:VEVENT
UID:stop-de-bezuinigingen-op-het-hoger-onderwijs-1732537800@voltnederland.o
 rg
DTSTAMP:20260423T113949Z
DTSTART;TZID=Europe/Amsterdam:20241125T133000
DTEND;TZID=Europe/Amsterdam:20241125T170000
SUMMARY:Stop de bezuinigingen op het hoger onderwijs
DESCRIPTION:Laat je stem horen! Op 25 november staan we samen op het Maliev
 eld in Den Haag voor het protest ‘Stop de bezuinigingen op het hoger onde
 rwijs’. Volt zet zich in voor kwalitatief\, toegankelijk en toekomstgeric
 ht onderwijs. We accepteren niet dat hierop wordt bezuinigd! Tijdens het pr
 otest kun je rekenen op inspirerende sprekers\, muziek en andere activiteit
 en. Het belooft een energieke en verbindende middag te worden. Samen laten 
 we zien dat onderwijs prioriteit moet blijven. De vorige keer ging o
LOCATION:Malieveld\, Den Haag
URL:https://voltnederland.org/agenda/stop-de-bezuinigingen-op-het-hoger-ond
 erwijs
END:VEVENT
END:VCALENDAR
