BEGIN:VCALENDAR
VERSION:2.0
PRODID:-//Volt Europa//Events//EN
CALSCALE:GREGORIAN
METHOD:PUBLISH
BEGIN:VEVENT
UID:statenleden-voor-eu-verkiezingsdebat-1716825600@voltnederland.org
DTSTAMP:20260423T114106Z
DTSTART;TZID=Europe/Amsterdam:20240527T180000
DTEND;TZID=Europe/Amsterdam:20240527T210000
SUMMARY:Statenleden voor EU verkiezingsdebat
DESCRIPTION:Utrecht is door de Europese Commissie uitgeroepen Europa's mees
 t competitieve regio. De regio Utrecht staat sterk op gezondheid\, duurzaam
 heid\, digitalisering - zaken die veelal op EU-niveau worden afgesproken\, 
 maar lokaal impact hebben. Ondernemers en overheden maken intensief gebruik
  van Europese subsidies. Europa heeft juist behoefte aan innovatie\, werkge
 legenheid en een nieuw te winnen strategische autonomie. Hoe gaan we deze w
 erelden samenbrengen? En wat is er allemaal te kiezen op de Europe
LOCATION:Royal Haskoning in Amersfoort
URL:https://voltnederland.org/agenda/statenleden-voor-eu-verkiezingsdebat
END:VEVENT
END:VCALENDAR
