BEGIN:VCALENDAR
VERSION:2.0
PRODID:-//Volt Europa//Events//EN
CALSCALE:GREGORIAN
METHOD:PUBLISH
BEGIN:VEVENT
UID:stand-with-ukrain-1708779600@voltnederland.org
DTSTAMP:20260423T101916Z
DTSTART;TZID=Europe/Amsterdam:20240224T140000
DTEND;TZID=Europe/Amsterdam:20240224T160000
SUMMARY:Stand with Ukraine
DESCRIPTION:Manifestatie om 2-jarige oorlog te herdenken in Oekraïne en Eu
 ropa. Datum: 24 februari Locatie: Audrey Hepburnplein\, Arnhem Aanvang: 14.
 00 uur Om 14.45 is een vreedzame demonstratie door het centrum van Arnhem\,
  deze duurt ca. 1 uur. Om 16.00 sluiten wij af bij het beginpunt. Organisat
 ie door Volt Oekraïne\, Vluchtelingenwerk Nederland\, afdeling Gelderland
  en Overijssel
LOCATION:Arnhem
URL:https://voltnederland.org/agenda/stand-with-ukrain
END:VEVENT
END:VCALENDAR
