BEGIN:VCALENDAR
VERSION:2.0
PRODID:-//Volt Europa//Events//EN
CALSCALE:GREGORIAN
METHOD:PUBLISH
BEGIN:VEVENT
UID:samen-vooruit-naar-de-gemeenteraadsverkiezingen-breda-1763402400@voltne
 derland.org
DTSTAMP:20260423T143459Z
DTSTART;TZID=Europe/Amsterdam:20251117T190000
DTEND;TZID=Europe/Amsterdam:20251117T213000
SUMMARY:Samen vooruit naar de gemeenteraadsverkiezingen - Breda
DESCRIPTION:Op maandag 17 november organiseert Volt West-Brabant vanaf 19:0
 0 uur (inloop) een bijeenkomst om samen vooruit te kijken naar de gemeenter
 aadsverkiezingen. Tijdens dit event worden de kandidatenlijst en de speerpu
 nten bekendgemaakt.
LOCATION:Parkzicht Breda\, Paul Windhausenweg 1
URL:https://voltnederland.org/agenda/samen-vooruit-naar-de-gemeenteraadsver
 kiezingen-breda
END:VEVENT
END:VCALENDAR
