BEGIN:VCALENDAR
VERSION:2.0
PRODID:-//Volt Europa//Events//EN
CALSCALE:GREGORIAN
METHOD:PUBLISH
BEGIN:VEVENT
UID:s-hertogenbosch-discussieavond-politieke-realiteit-1716485400@voltneder
 land.org
DTSTAMP:20260423T113925Z
DTSTART;TZID=Europe/Amsterdam:20240523T193000
DTEND;TZID=Europe/Amsterdam:20240523T220000
SUMMARY:s- Hertogenbosch: Discussieavond politieke realiteit
DESCRIPTION:De Europese verkiezingen staan alweer voor de deur. Tegelijkert
 ijd hebben we te weinig met elkaar gesproken over wat de uitkomst van de Tw
 eede Kamer verkiezingen van vorig jaar ons verteld. Dat willen we deze avon
 d inhalen. Vind je het leuk om hierover van gedachte te wisselen om zo zelf
  meer inzicht of begrip te krijgen\, kom dan en doe mee.
LOCATION:Knilispoort\, Korte Waterstraat 15 Den Bosch
URL:https://voltnederland.org/brabant/agenda/s-hertogenbosch-discussieavond
 -politieke-realiteit
END:VEVENT
END:VCALENDAR
