BEGIN:VCALENDAR
VERSION:2.0
PRODID:-//Volt Europa//Events//EN
CALSCALE:GREGORIAN
METHOD:PUBLISH
BEGIN:VEVENT
UID:rotterdam-community-avond-en-campagne-kick-off-1698166800@voltnederland
 .org
DTSTAMP:20260423T113924Z
DTSTART;TZID=Europe/Amsterdam:20231024T190000
DTEND;TZID=Europe/Amsterdam:20231024T220000
SUMMARY:Rotterdam - Community avond en Campagne kick-off
DESCRIPTION:Onze maandelijkse community avond staat deze keer in het teken 
 van de campagne. Ellemijn zal kort wat vertellen over onze campagne\, hoe e
 n waaraan je kan meedoen en wanneer. Verder zijn er meerdere kandidaten voo
 r de verkiezingen uitgenodigd\, met name onze lokale kandidaten Imane en Mi
 chael. Ze zullen zich voorstellen en vertellen over hun eigen campagnes. En
  we zijn natuurlijk ook nog op zoek naar meer vrijwilligers. Ontmoet je med
 e-Volters voor een interessant gesprek. Er zullen veel actieve l
LOCATION:Cafe Stalles\, Nieuwe Binnenweg 11A\, 3014GA\, Rotterdam
URL:https://voltnederland.org/agenda/rotterdam-community-avond-en-campagne-
 kick-off
END:VEVENT
END:VCALENDAR
