BEGIN:VCALENDAR
VERSION:2.0
PRODID:-//Volt Europa//Events//EN
CALSCALE:GREGORIAN
METHOD:PUBLISH
BEGIN:VEVENT
UID:rotterdam-borrel-presentatie-chinese-invloed-op-de-rotterdamse-haven-16
 95751200@voltnederland.org
DTSTAMP:20260423T143635Z
DTSTART;TZID=Europe/Amsterdam:20230926T200000
DTEND;TZID=Europe/Amsterdam:20230926T220000
SUMMARY:Rotterdam - Borrel & Presentatie Chinese invloed op de Rotterdamse 
 Haven
DESCRIPTION:Kom gezellig naar onze maandelijkse borrel en ontmoet je mede-V
 olters voor een goed gesprek. De laatste tijd is het hectisch met de voorbe
 reidingen voor de verkiezingen\, dus genoeg ideeen om uit te wisselen. De m
 eeting meeting is open voor iedereen dus neem gerust iemand mee. Deze editi
 e hebben we een gast-spreker voor wat verdieping. Fred Sengers is een China
  deskundige die iets komt vertellen over de afhankelijkheid van de China va
 n de Rotterdamse haven\, waar hij eerder dit jaar een onderzoek 
LOCATION:Volvo Studio\, Meent 96\, Rotterdam
URL:https://voltnederland.org/agenda/rotterdam-borrel-presentatie-chinese-i
 nvloed-op-de-rotterdamse-haven
END:VEVENT
END:VCALENDAR
