BEGIN:VCALENDAR
VERSION:2.0
PRODID:-//Volt Europa//Events//EN
CALSCALE:GREGORIAN
METHOD:PUBLISH
BEGIN:VEVENT
UID:renteprotest-1698233400@voltnederland.org
DTSTAMP:20260423T101917Z
DTSTART;TZID=Europe/Amsterdam:20231025T133000
DTEND;TZID=Europe/Amsterdam:20231025T200000
SUMMARY:Renteprotest
DESCRIPTION:Op 25 oktober organiseert de Landelijke Studentenvakbond (LSVb)
  het rente protest\, voor de Tweede Kamer in Den Haag. Ook Volt doet mee! W
 aarom?   Per 1 januari 2024 wordt de rente op studieleningen meer dan vijf
  keer zo hoog. Volt pleit voor een renteplafond\, zodat studenten weten wat
  ze kunnen verwachten als ze lenen. Voor echte zekerheid is er veel meer no
 dig\, zoals een hogere basisbeurs\, eerlijke compensatie van de pechgenerat
 ie en de afschaffing van het jeugdloon. Waar starten we?  Op woensd
LOCATION:Den Haag
URL:https://voltnederland.org/agenda/renteprotest
END:VEVENT
END:VCALENDAR
