BEGIN:VCALENDAR
VERSION:2.0
PRODID:-//Volt Europa//Events//EN
CALSCALE:GREGORIAN
METHOD:PUBLISH
BEGIN:VEVENT
UID:reaching-youth-should-we-use-tiktok-1705258800@voltnederland.org
DTSTAMP:20260423T102133Z
DTSTART;TZID=Europe/Amsterdam:20240114T200000
DTEND;TZID=Europe/Amsterdam:20240114T210000
SUMMARY:Reaching youth - Should we use TikTok?
DESCRIPTION:A conversation with Hugo Kapteijn and Ruben Schouten about an i
 mportant question in the run-up to the 2024 European Elections: should we u
 se TikTok in Volt campaigns?  How can TikTok help Volt reach a new audience
 \, in particular youth? And what should be considered in adding the platfor
 m to Volt’s social media strategy? Those questions and more will be the t
 opic of discussion in this Instagram livestream.
LOCATION:Instagram live
URL:https://voltnederland.org/agenda/reaching-youth-should-we-use-tiktok
END:VEVENT
END:VCALENDAR
