BEGIN:VCALENDAR
VERSION:2.0
PRODID:-//Volt Europa//Events//EN
CALSCALE:GREGORIAN
METHOD:PUBLISH
BEGIN:VEVENT
UID:raadsinformatiebijeenkomst-watertransitie-utrecht-1728410400@voltnederl
 and.org
DTSTAMP:20260423T114048Z
DTSTART;TZID=Europe/Amsterdam:20241008T200000
DTEND;TZID=Europe/Amsterdam:20241008T223000
SUMMARY:Raadsinformatiebijeenkomst Watertransitie Utrecht
DESCRIPTION:De fractie Utrecht heeft het onderwerp watertransitie geagendee
 rd voor een raadsinformatiebijeenkomst. Als fractie hechten we groot belang
  aan dit onderwerp. Het gaat immers over de toekomst van het drinkwater in 
 de stad Utrecht. Onze fractie wil graag antwoord op de volgende vragen: Voo
 r welke uitdaging staan we met het oog op (toekomstig) drinkwatertekort en 
 welke urgentie heeft dit? Welk risico loopt Utrecht met het oog op een toek
 omstig drinkwatertekort en wat zijn de knelpunten met het oog 
LOCATION:Stadskantoor Utrecht
URL:https://voltnederland.org/agenda/raadsinformatiebijeenkomst-watertransi
 tie-utrecht
END:VEVENT
END:VCALENDAR
