BEGIN:VCALENDAR
VERSION:2.0
PRODID:-//Volt Europa//Events//EN
CALSCALE:GREGORIAN
METHOD:PUBLISH
BEGIN:VEVENT
UID:q-a-over-het-indienen-van-amendementen-en-moties-1703185200@voltnederla
 nd.org
DTSTAMP:20260423T114307Z
DTSTART;TZID=Europe/Amsterdam:20231221T200000
DTEND;TZID=Europe/Amsterdam:20231221T213000
SUMMARY:Q&A over het indienen van amendementen en moties
DESCRIPTION:Tijdens deze sessie kun je in contact komen met de secretaris v
 an het bestuur van Volt Nederland en zal hij uitleggen wat de procedures zi
 jn omtrent het indienen van moties en amendementen. Zou jij graag amendemen
 ten of een motie willen indienen op een van de onderwerpen van het congres\
 , maar is het je nog onduidelijk hoe dit precies werkt? Dit is het moment o
 m je vragen te stellen! Vind hier de link naar de meeting:  https://us06web
 .zoom.us/j/87968801407 NB: De sessie wordt afgesloten wanneer e
LOCATION:Online
URL:https://voltnederland.org/agenda/q-a-over-het-indienen-van-amendementen
 -en-moties
END:VEVENT
END:VCALENDAR
