BEGIN:VCALENDAR
VERSION:2.0
PRODID:-//Volt Europa//Events//EN
CALSCALE:GREGORIAN
METHOD:PUBLISH
BEGIN:VEVENT
UID:pubquiz-perspectief-en-violet-1706121000@voltnederland.org
DTSTAMP:20260423T101919Z
DTSTART;TZID=Europe/Amsterdam:20240124T193000
DTEND;TZID=Europe/Amsterdam:20240124T230000
SUMMARY:Pubquiz Perspectief en Violet
DESCRIPTION:Violet en PerspectieF Noord-Holland organiseren samen een leuke
  pubquiz in Haarlem in een echte Irish pub om je kennis te testen! Het is e
 en gezellige avond waarbij je gelijk kennis kan maken met andere PJO leden.
  Het zal plaatsvinden op 24 januari in Tierney’s Irish pub Haarlem. Inloo
 p begint om 7:30 en begint om 8 uur!
LOCATION:Tierney’s Irish pub in Haarlem
URL:https://voltnederland.org/agenda/pubquiz-perspectief-en-violet
END:VEVENT
END:VCALENDAR
