BEGIN:VCALENDAR
VERSION:2.0
PRODID:-//Volt Europa//Events//EN
CALSCALE:GREGORIAN
METHOD:PUBLISH
BEGIN:VEVENT
UID:provinciespel-1730376000@voltnederland.org
DTSTAMP:20260422T083058Z
DTSTART;TZID=Europe/Amsterdam:20241031T130000
DTEND;TZID=Europe/Amsterdam:20241031T160000
SUMMARY:Provinciespel voor jongeren\, kennismaken met de provincie
DESCRIPTION:Wie: Jongere (15-25 jaar) Volt leden Wat: Provinciespel Waar: P
 rovinciehuis Overijssel in Zwolle Wanneer: (waarschijnlijk) 31 oktober Graa
 g nodigt de provincie de jongeren(organisaties) van de Overijsselse Statenf
 racties uit om deel te nemen aan een speciale editie van het Provinciespel.
  Voorlopig geplande datum is donderdag 31 oktober\, van 13-16.00 uur in de 
 Statenzaal in het Provinciehuis van Overijssel.   Wat is het? Via het provi
 nciespel laten ze jongeren van 15-25 jaar kennis maken met de p
LOCATION:Provinciehuis Zwolle
URL:https://voltnederland.org/agenda/provinciespel
END:VEVENT
END:VCALENDAR
