BEGIN:VCALENDAR
VERSION:2.0
PRODID:-//Volt Europa//Events//EN
CALSCALE:GREGORIAN
METHOD:PUBLISH
BEGIN:VEVENT
UID:protest-tegen-de-bezuinigingen-in-het-hoger-onderwijs-1731585600@voltne
 derland.org
DTSTAMP:20260423T143452Z
DTSTART;TZID=Europe/Amsterdam:20241114T130000
DTEND;TZID=Europe/Amsterdam:20241114T150000
SUMMARY:NIEUWE UPDATE: Protest tegen de bezuinigingen in het hoger onderwij
 s
DESCRIPTION:Update 14-11-2024: In tegenstelling tot eerdere berichten gaat 
 het protest toch door. De demonstratie wordt door gemeente Utrecht gefacili
 teerd\, maar deelname wordt door hen afgeraden. Als Volt volgen we dat advi
 es en we zullen er niet georganiseerd aan meedoen. Update 13-11-2024: Dit p
 rotest is door gemeente Utrecht afgelast om veiligheidsredenen. Als we meer
  weten over een nieuwe datum laten we het weten. Oorspronkelijk bericht: Op
  14 november komen studenten\, docenten en anderen samen in Utre
LOCATION:Moreelsepark\, Utrecht
URL:https://voltnederland.org/agenda/protest-tegen-de-bezuinigingen-in-het-
 hoger-onderwijs
END:VEVENT
END:VCALENDAR
