BEGIN:VCALENDAR
VERSION:2.0
PRODID:-//Volt Europa//Events//EN
CALSCALE:GREGORIAN
METHOD:PUBLISH
BEGIN:VEVENT
UID:presentatie-concept-verkiezingsprogramma-1756196100@voltnederland.org
DTSTAMP:20260423T101919Z
DTSTART;TZID=Europe/Amsterdam:20250826T101500
DTEND;TZID=Europe/Amsterdam:20250826T120000
SUMMARY:Presentatie concept verkiezingsprogramma
DESCRIPTION:Op dinsdag 26 augustus presenteren we in Den Haag ons concept-v
 erkiezingsprogramma. Het programma is gezamenlijk vormgegeven door onze led
 en\, mede-Volters uit andere landen\, experts én andere betrokkenen. Deze 
 unieke\, democratische manier om met ideeën te komen die de status quo gaa
 n doorbreken\, mag gevierd worden! De inloop is vanaf 10:15. De presentatie
  is van 10:45 tot 12:00.
LOCATION:Nieuwspoort: Bezuidenhoutseweg 67\, 2594 AC Den Haag
URL:https://voltnederland.org/agenda/presentatie-concept-verkiezingsprogram
 ma
END:VEVENT
END:VCALENDAR
