BEGIN:VCALENDAR
VERSION:2.0
PRODID:-//Volt Europa//Events//EN
CALSCALE:GREGORIAN
METHOD:PUBLISH
BEGIN:VEVENT
UID:praten-met-queer-asielzoekerstalking-with-queer-asylum-seekers-17769672
 00@voltnederland.org
DTSTAMP:20260421T094039Z
DTSTART;TZID=Europe/Amsterdam:20260423T200000
DTEND;TZID=Europe/Amsterdam:20260423T220000
SUMMARY:Praten MET queer asielzoekers/Talking WITH queer asylum seekers
DESCRIPTION:For English scroll down Nederland is er voor iedereen?! Een ges
 prek met Queer Vluchtelingen in Nederland Een avond over hoop\, bureaucrati
 e en de mens achter het dossier. Kijk om je heen en je ziet dat de queercom
 munity wereldwijd zwaar onder druk staat. Van Iran\, Senegal en Oeganda tot
  aan Hongarije en zelfs de VS \; in veel landen moeten queer mensen vrezen 
 voor hun veiligheid en hun leven. Het is dan ook geen verrassing dat velen 
 op zoek gaan naar een veilige plek waar ze simpelweg zichzelf kun
LOCATION:Hal West Hannie Dankbaarpassage 24\, 1053 RT Amsterdam
URL:https://voltnederland.org/agenda/praten-met-queer-asielzoekerstalking-w
 ith-queer-asylum-seekers
END:VEVENT
END:VCALENDAR
