BEGIN:VCALENDAR
VERSION:2.0
PRODID:-//Volt Europa//Events//EN
CALSCALE:GREGORIAN
METHOD:PUBLISH
BEGIN:VEVENT
UID:politieke-avond-enschede-polarisatie-en-het-vormen-van-een-mening-17134
 59600@voltnederland.org
DTSTAMP:20260423T114544Z
DTSTART;TZID=Europe/Amsterdam:20240418T190000
DTEND;TZID=Europe/Amsterdam:20240418T220000
SUMMARY:Politieke avond Enschede - Polarisatie en het vormen van een mening
DESCRIPTION:Wat: Volt Enschede Politieke avond  Voor wie:  Volt-leden en 
 iedereen die Volt interessant vindt Wanneer:  18 april van 19:30 tot 22:00
 \, inloop 19:00\, borrel vanaf 21:00 Waar:  Universiteit Twente - Borrelru
 imte Onderwerp:  Polarisatie en het vormen van een mening Algemeen: We will
 en iedereen die Volt interessant vindt een plek bieden om elkaar te leren k
 ennen\, en te praten over Enschede\, Europa\, en politiek. Het idee is voor
 al om je eigen horizon te verbreden\, kennis te maken met nieuwe/gezelli
LOCATION:Universiteit Twente - borrelruimte
URL:https://voltnederland.org/agenda/politieke-avond-enschede-polarisatie-e
 n-het-vormen-van-een-mening
END:VEVENT
END:VCALENDAR
