BEGIN:VCALENDAR
VERSION:2.0
PRODID:-//Volt Europa//Events//EN
CALSCALE:GREGORIAN
METHOD:PUBLISH
BEGIN:VEVENT
UID:politieke-avond-enschede-omgaan-met-vergrijzing-1714671000@voltnederlan
 d.org
DTSTAMP:20260423T114306Z
DTSTART;TZID=Europe/Amsterdam:20240502T193000
DTEND;TZID=Europe/Amsterdam:20240502T220000
SUMMARY:Politieke avond Enschede - Omgaan met vergrijzing
DESCRIPTION:Wat: Volt Enschede Politieke avond  Voor wie:  Volt-leden en 
 iedereen die Volt interessant vindt Wanneer:  11 juli van 19:30 tot 22:00\
 , inloop 19:30\, borrel vanaf 21:00 Waar:  locatie per mail\, afhankelijk 
 aantal deelnemers Onderwerp:  Omgaan met vergrijzing Algemeen: We willen ie
 dereen die Volt interessant vindt een plek bieden om elkaar te leren kennen
 \, en te praten over Enschede\, Europa\, en politiek. Het idee is vooral om
  je eigen horizon te verbreden\, kennis te maken met nieuwe/gezellige men
LOCATION:Enschede
URL:https://voltnederland.org/agenda/politieke-avond-enschede-omgaan-met-ve
 rgrijzing
END:VEVENT
END:VCALENDAR
