BEGIN:VCALENDAR
VERSION:2.0
PRODID:-//Volt Europa//Events//EN
CALSCALE:GREGORIAN
METHOD:PUBLISH
BEGIN:VEVENT
UID:politiek-tussen-droom-en-daad-europa-nu-of-nooit-1730474100@voltnederla
 nd.org
DTSTAMP:20260423T114548Z
DTSTART;TZID=Europe/Amsterdam:20241101T161500
DTEND;TZID=Europe/Amsterdam:20241101T181500
SUMMARY:Politiek tussen droom en daad: Europa\, nu of nooit!
DESCRIPTION:Dit is een evenement van Charge Wetenschappelijk Platform Volt 
 Europa bevindt zich op een kruispunt in de internationale politieke arena. 
 Terwijl China zijn geopolitieke invloed uitbreidt en de Verenigde Staten ee
 n economische voorsprong nemen\, worstelt de Europese Unie met interne verd
 eeldheid\, een sluimerende energiecrisis en de voortdurende oorlog in Oekra
 ïne.  Daarbovenop komt de macht van banken en de afwezigheid van een geïn
 tegreerde Europese kapitaalmarkt\, wat de economische weerbaarheid 
LOCATION:Kanaal30\, Kanaalweg 30\, Utrecht
URL:https://voltnederland.org/agenda/politiek-tussen-droom-en-daad-europa-n
 u-of-nooit
END:VEVENT
END:VCALENDAR
