BEGIN:VCALENDAR
VERSION:2.0
PRODID:-//Volt Europa//Events//EN
CALSCALE:GREGORIAN
METHOD:PUBLISH
BEGIN:VEVENT
UID:politiek-plein-1757750400@voltnederland.org
DTSTAMP:20260423T101945Z
DTSTART;TZID=Europe/Amsterdam:20250913T100000
DTEND;TZID=Europe/Amsterdam:20250913T140000
SUMMARY:Politiek plein
DESCRIPTION:Wie: Iedereen Wat: Politieke markt/politiek plein Waar: Gemeent
 ehuis Enschede Wanneer: 13 september van 10:00 - 14:00 De verkiezingen kome
 n er weer aan. Wil jij wel eens wat beter weten wie de gemeente bestuurt? E
 n hoe zit het nou met de verschillen tussen partijen? Wat gebeurt er met jo
 u stem en wat zou jij graag terug zien in de verkiezingsprogramma's? Op 13 
 september is het Open Monumentendag en daarom opent het gemeentehuis van En
 schede van 10.00 - 14.00 uur haar deuren. Iedereen is welkom o
LOCATION:Enschede\, gemeentehuis
URL:https://voltnederland.org/agenda/politiek-plein
END:VEVENT
END:VCALENDAR
