BEGIN:VCALENDAR
VERSION:2.0
PRODID:-//Volt Europa//Events//EN
CALSCALE:GREGORIAN
METHOD:PUBLISH
BEGIN:VEVENT
UID:politiek-is-van-ons-allemaal-1751562900@voltnederland.org
DTSTAMP:20260423T142740Z
DTSTART;TZID=Europe/Amsterdam:20250703T191500
DTEND;TZID=Europe/Amsterdam:20250703T213000
SUMMARY:Politiek is van ons allemaal
DESCRIPTION:Denk jij weleens: politiek lijkt me interessant\, maar…? Dond
 erdag 3 juli is jouw kans om het échte verhaal te horen – zonder poespas
 \, zonder politiek jargon. Gewoon\, zoals het is\, van Inge Vossen-van Beer
 s\, Fractievoorzitter Volt Provinciale Staten Noord-Brabant. Inge neemt je 
 mee in hoe het écht is om actief te zijn in de politiek\, als vrouw\, als 
 mens\, met twijfels én dromen. Waarom jij misschien wel meer geschikt bent
  dan je denkt. En waarom het juist nu zó belangrijk is dat nieuwe stemmen 
 zic
LOCATION:Knillispoort\, Korte Waterstraat 15 ‘s-Hertogenbosch
URL:https://voltnederland.org/agenda/politiek-is-van-ons-allemaal
END:VEVENT
END:VCALENDAR
