BEGIN:VCALENDAR
VERSION:2.0
PRODID:-//Volt Europa//Events//EN
CALSCALE:GREGORIAN
METHOD:PUBLISH
BEGIN:VEVENT
UID:politiek-cafe-wonen-alkmaar-1738261800@voltnederland.org
DTSTAMP:20260423T102227Z
DTSTART;TZID=Europe/Amsterdam:20250130T193000
DTEND;TZID=Europe/Amsterdam:20250130T223000
SUMMARY:Politiek Café (wonen) - Alkmaar
DESCRIPTION:Volt Noord-Holland Noord organiseert een avond rond het thema '
 wonen'\, met als sprekers Merlijn Rademaker\, projectleider gebiedsontwikke
 ling\, en Mark Groot\, adviseur ruimtelijke ontwikkeling. Spreek en denk me
 e met ons regionale Volt-team! De locatie is de Laatmakers\, Laat 27\, 1811
  EB Alkmaar. Inloop vanaf 19:30\, aanvang 20:00 uur. Na afloop tijd voor na
 praten onder het genot van een drankje.
LOCATION:Laatmakers\, Laat 27\, 1811 EB Alkmaar
URL:https://voltnederland.org/agenda/politiek-cafe-wonen-alkmaar
END:VEVENT
END:VCALENDAR
