BEGIN:VCALENDAR
VERSION:2.0
PRODID:-//Volt Europa//Events//EN
CALSCALE:GREGORIAN
METHOD:PUBLISH
BEGIN:VEVENT
UID:politiek-cafe-in-europees-thema-1715774400@voltnederland.org
DTSTAMP:20260424T191406Z
DTSTART;TZID=Europe/Amsterdam:20240515T140000
DTEND;TZID=Europe/Amsterdam:20240515T160000
SUMMARY:Politiek Café in Europees thema
DESCRIPTION:Op 6 juni mogen we aan onze democratische plicht voldoen. Dan m
 ag er gestemd worden voor de Europese verkiezingen. Om goed voorbereid het 
 stemhokje in te kunnen gaan\, organiseren een aantal politieke partijen in 
 Deventer een Politiek Café. Europese kandidaten van de PvdA\, Groenlinks e
 n D66 Deventer zullen op 18 mei het debat aangaan met belangstellenden en e
 lkaar. De Hip in Deventer zal tussen 14:00 en 16:00 het decor zijn voor dit
  Politieke Café. Onder oog van gespreksleider Rob de Jong kunnen 
LOCATION:De Hip in Deventer Brink 21\, 7411 BR Deventer
URL:https://voltnederland.org/agenda/politiek-cafe-in-europees-thema
END:VEVENT
END:VCALENDAR
