BEGIN:VCALENDAR
VERSION:2.0
PRODID:-//Volt Europa//Events//EN
CALSCALE:GREGORIAN
METHOD:PUBLISH
BEGIN:VEVENT
UID:politiek-cafe-alkmaar-1726767000@voltnederland.org
DTSTAMP:20260423T102134Z
DTSTART;TZID=Europe/Amsterdam:20240919T193000
DTEND;TZID=Europe/Amsterdam:20240919T223000
SUMMARY:Politiek Café Alkmaar
DESCRIPTION:Donderdagavond 19 september a.s. nodigen we iedereen die Volt e
 en warm hart toedraagt uit voor een Politiek Café waar leden en (nog) niet
 -leden met elkaar in gesprek gaan om te ontdekken wat Volt kan beteken voor
  de regio Alkmaar. Er is reeds een aantal sprekers bekend\, waaronder: Jasm
 ijn Witte (co-voorzitter Volt Noord-Holland): Wat is er van belang in een g
 emeentelijke campagne? Iris Goedbloed: Wat speelt er zoal in Alkmaar\, wat 
 is het huidige politieke lokale landschap?
LOCATION:JE Werkplek\, Geestersingel 48\, 1815 BB Alkmaar
URL:https://voltnederland.org/agenda/politiek-cafe-alkmaar
END:VEVENT
END:VCALENDAR
