BEGIN:VCALENDAR
VERSION:2.0
PRODID:-//Volt Europa//Events//EN
CALSCALE:GREGORIAN
METHOD:PUBLISH
BEGIN:VEVENT
UID:pfas-demonstratie-1760180400@voltnederland.org
DTSTAMP:20260423T142210Z
DTSTART;TZID=Europe/Amsterdam:20251011T130000
DTEND;TZID=Europe/Amsterdam:20251011T160000
SUMMARY:PFAS demonstratie
DESCRIPTION:Stap mee voor een PFAS-vrije toekomst!  Op zaterdag 11 oktober 
 organiseren we een Community PFAS Wandeling in Dordrecht. Start  13:00 uur 
 – noordzijde station Dordrecht Stadspolders We wandelen 6 km: eerst door 
 de wijk Stadspolders\, daarna langs de vervuilde Merwedeplassen en we eindi
 gen bij Chemours. Vanaf Chemours kun je de bus nemen naar station Dordrecht
  of mee terug wandelen naar station Dordrecht Stadspolders. De tocht duurt 
 maximaal 3 uur\, inclusief inspirerende stops met de volgende spre
LOCATION:Dordrecht
URL:https://voltnederland.org/zuid-holland/agenda/pfas-demonstratie
END:VEVENT
END:VCALENDAR
