BEGIN:VCALENDAR
VERSION:2.0
PRODID:-//Volt Europa//Events//EN
CALSCALE:GREGORIAN
METHOD:PUBLISH
BEGIN:VEVENT
UID:pariteitsessie-ruimte-voor-echte-dialoog-1752168600@voltnederland.org
DTSTAMP:20260423T102050Z
DTSTART;TZID=Europe/Amsterdam:20250710T193000
DTEND;TZID=Europe/Amsterdam:20250710T220000
SUMMARY:Pariteitsessie – ruimte voor echte dialoog
DESCRIPTION:Op 10 juli ben je van harte welkom op het partijkantoor in Den 
 Haag voor een dialoogsessie over pariteit\, waarin we samen in gesprek gaan
 . In een veilige setting\, waar iedereen wordt gehoord en gezien\, nemen we
  de tijd om écht met elkaar te praten over het onderwerp pariteit. Deze se
 ssie draait niet om zenden\, maar om luisteren\, delen en begrijpen. Jouw a
 anwezigheid maakt het verschil. Wil je zelf de sessie begeleiden of een ond
 erdeel verzorgen? Voel je vrij om je aan te melden – ook dat is een 
LOCATION:Koninginnegracht 7 (2de verdieping)\, 2514 AA\, Den Haag
URL:https://voltnederland.org/agenda/pariteitsessie-ruimte-voor-echte-dialo
 og
END:VEVENT
END:VCALENDAR
