BEGIN:VCALENDAR
VERSION:2.0
PRODID:-//Volt Europa//Events//EN
CALSCALE:GREGORIAN
METHOD:PUBLISH
BEGIN:VEVENT
UID:paris-general-assembly-for-volt-europa-1700899200@voltnederland.org
DTSTAMP:20260422T021951Z
DTSTART;TZID=Europe/Amsterdam:20231125T090000
DTEND;TZID=Europe/Amsterdam:20231125T210000
SUMMARY:Paris - General Assembly  for Volt Europa
DESCRIPTION:Volt Europa organiseert de jaarlijkse General Assembly in novem
 ber 2023 in Parijs!\nDe GA vindt plaats op zaterdag 25 en zondag 26 novembe
 r. De exacte locatie wordt later bekend gemaakt. Honderden Volters uit heel
  Europa komen bijeen om te discussiëren en om de Europese verkiezingen van
  2024 voor te bereiden. Na Lissabon\, Praag en Boekarest wordt Parijs waars
 chijnlijk de grootste GA ooit.----Volt Europa will host the annual General 
 Assembly in November 2023 in Paris!\nThe GA will take place on Sat
LOCATION:Parijs - nader te bepalen\, Parijs\, Frankrijk
URL:https://voltnederland.org/agenda/paris-general-assembly-for-volt-europa
END:VEVENT
END:VCALENDAR
