BEGIN:VCALENDAR
VERSION:2.0
PRODID:-//Volt Europa//Events//EN
CALSCALE:GREGORIAN
METHOD:PUBLISH
BEGIN:VEVENT
UID:overijssel-congres-2025-1764417600@voltnederland.org
DTSTAMP:20260423T101920Z
DTSTART;TZID=Europe/Amsterdam:20251129T130000
DTEND;TZID=Europe/Amsterdam:20251129T170000
SUMMARY:Overijssel Congres
DESCRIPTION:Wie: Volt leden  Wat: Volt Overijssel congres Waar: De Hip aan 
 de Brink 21 in Deventer Wanneer: 29 november 2025\, 13:00 - 17:00 Op 29 nov
 ember is het congres van Volt Overijssel. Dit is een belangrijk congres\, w
 ant we gaan al het beleid en alle kandidatenlijsten voor de gemeenteraadsve
 rkiezingen instemmen. De link naar alle bestanden heb je gekregen in de mai
 l van 24 oktober.
LOCATION:De Hip\, Deventer
URL:https://voltnederland.org/agenda/overijssel-congres-2025
END:VEVENT
END:VCALENDAR
